Workbook

Sheet Training
A1: Datum | B1: Übung | C1: Gewicht (kg) | D1: Wdh. | E1: Sätze | F1: Volumen (kg) | G1: Rechn. Maximum (kg)
A2: 46268 | B2: Bankdrücken | C2: 77.5 | D2: 8 | E2: 3 | F2: =IF(OR($C2="",$D2=""),NA(),$C2*$D2*IF($E2="",1,$E2)) -> 1860 | G2: =IF(OR($C2="",$D2=""),NA(),ROUND($C2*(1+$D2/30),1)) -> 98.2
A3: 46268 | B3: Rudern am Kabel | C3: 60 | D3: 10 | E3: 3 | F3: =IF(OR($C3="",$D3=""),NA(),$C3*$D3*IF($E3="",1,$E3)) -> 1800 | G3: =IF(OR($C3="",$D3=""),NA(),ROUND($C3*(1+$D3/30),1)) -> 80
A4: 46270 | B4: Kniebeuge | C4: 95 | D4: 6 | E4: 4 | F4: =IF(OR($C4="",$D4=""),NA(),$C4*$D4*IF($E4="",1,$E4)) -> 2280 | G4: =IF(OR($C4="",$D4=""),NA(),ROUND($C4*(1+$D4/30),1)) -> 114
A5: 46275 | B5: Bankdrücken | C5: 80 | D5: 8 | E5: 3 | F5: =IF(OR($C5="",$D5=""),NA(),$C5*$D5*IF($E5="",1,$E5)) -> 1920 | G5: =IF(OR($C5="",$D5=""),NA(),ROUND($C5*(1+$D5/30),1)) -> 101.3
A6: 46275 | B6: Rudern am Kabel | C6: 65 | D6: 10 | E6: 3 | F6: =IF(OR($C6="",$D6=""),NA(),$C6*$D6*IF($E6="",1,$E6)) -> 1950 | G6: =IF(OR($C6="",$D6=""),NA(),ROUND($C6*(1+$D6/30),1)) -> 86.7
A7: 46277 | B7: Kniebeuge | C7: 100 | D7: 6 | E7: 4 | F7: =IF(OR($C7="",$D7=""),NA(),$C7*$D7*IF($E7="",1,$E7)) -> 2400 | G7: =IF(OR($C7="",$D7=""),NA(),ROUND($C7*(1+$D7/30),1)) -> 120
A8: 46279 | B8: Bankdrücken | C8: 82.5 | D8: 8 | E8: 3 | F8: =IF(OR($C8="",$D8=""),NA(),$C8*$D8*IF($E8="",1,$E8)) -> 1980 | G8: =IF(OR($C8="",$D8=""),NA(),ROUND($C8*(1+$D8/30),1)) -> 104.5
F9: =IF(OR($C9="",$D9=""),NA(),$C9*$D9*IF($E9="",1,$E9)) -> #N/A | G9: =IF(OR($C9="",$D9=""),NA(),ROUND($C9*(1+$D9/30),1)) -> #N/A
F10: =IF(OR($C10="",$D10=""),NA(),$C10*$D10*IF($E10="",1,$E10)) -> #N/A | G10: =IF(OR($C10="",$D10=""),NA(),ROUND($C10*(1+$D10/30),1)) -> #N/A
F11: =IF(OR($C11="",$D11=""),NA(),$C11*$D11*IF($E11="",1,$E11)) -> #N/A | G11: =IF(OR($C11="",$D11=""),NA(),ROUND($C11*(1+$D11/30),1)) -> #N/A
F12: =IF(OR($C12="",$D12=""),NA(),$C12*$D12*IF($E12="",1,$E12)) -> #N/A | G12: =IF(OR($C12="",$D12=""),NA(),ROUND($C12*(1+$D12/30),1)) -> #N/A
F13: =IF(OR($C13="",$D13=""),NA(),$C13*$D13*IF($E13="",1,$E13)) -> #N/A | G13: =IF(OR($C13="",$D13=""),NA(),ROUND($C13*(1+$D13/30),1)) -> #N/A
F14: =IF(OR($C14="",$D14=""),NA(),$C14*$D14*IF($E14="",1,$E14)) -> #N/A | G14: =IF(OR($C14="",$D14=""),NA(),ROUND($C14*(1+$D14/30),1)) -> #N/A
F15: =IF(OR($C15="",$D15=""),NA(),$C15*$D15*IF($E15="",1,$E15)) -> #N/A | G15: =IF(OR($C15="",$D15=""),NA(),ROUND($C15*(1+$D15/30),1)) -> #N/A
F16: =IF(OR($C16="",$D16=""),NA(),$C16*$D16*IF($E16="",1,$E16)) -> #N/A | G16: =IF(OR($C16="",$D16=""),NA(),ROUND($C16*(1+$D16/30),1)) -> #N/A
F17: =IF(OR($C17="",$D17=""),NA(),$C17*$D17*IF($E17="",1,$E17)) -> #N/A | G17: =IF(OR($C17="",$D17=""),NA(),ROUND($C17*(1+$D17/30),1)) -> #N/A
F18: =IF(OR($C18="",$D18=""),NA(),$C18*$D18*IF($E18="",1,$E18)) -> #N/A | G18: =IF(OR($C18="",$D18=""),NA(),ROUND($C18*(1+$D18/30),1)) -> #N/A
F19: =IF(OR($C19="",$D19=""),NA(),$C19*$D19*IF($E19="",1,$E19)) -> #N/A | G19: =IF(OR($C19="",$D19=""),NA(),ROUND($C19*(1+$D19/30),1)) -> #N/A
F20: =IF(OR($C20="",$D20=""),NA(),$C20*$D20*IF($E20="",1,$E20)) -> #N/A | G20: =IF(OR($C20="",$D20=""),NA(),ROUND($C20*(1+$D20/30),1)) -> #N/A
... F301: =IF(OR($C301="",$D301=""),NA(),$C301*$D301*IF($E301="",1,$E301)) -> #N/A | G301: =IF(OR($C301="",$D301=""),NA(),ROUND($C301*(1+$D301/30),1)) -> #N/A

Sheet Kurve
A1: Übung | B1: Bankdrücken
A2: Trag oben den Namen einer Übung ein, genau so, wie er in der Spalte „Übung“ steht. | J2: =IF(Training!$B2=$B$1,Training!$A2,NA()) -> 46268 | K2: =IF(Training!$B2=$B$1,Training!$G2,NA()) -> 98.2
A3: Die Kurve zeigt dann das rechnerische Maximum dieser Übung über die Zeit. | J3: =IF(Training!$B3=$B$1,Training!$A3,NA()) -> #N/A | K3: =IF(Training!$B3=$B$1,Training!$G3,NA()) -> #N/A
J4: =IF(Training!$B4=$B$1,Training!$A4,NA()) -> #N/A | K4: =IF(Training!$B4=$B$1,Training!$G4,NA()) -> #N/A
J5: =IF(Training!$B5=$B$1,Training!$A5,NA()) -> 46275 | K5: =IF(Training!$B5=$B$1,Training!$G5,NA()) -> 101.3
J6: =IF(Training!$B6=$B$1,Training!$A6,NA()) -> #N/A | K6: =IF(Training!$B6=$B$1,Training!$G6,NA()) -> #N/A
J7: =IF(Training!$B7=$B$1,Training!$A7,NA()) -> #N/A | K7: =IF(Training!$B7=$B$1,Training!$G7,NA()) -> #N/A
J8: =IF(Training!$B8=$B$1,Training!$A8,NA()) -> 46279 | K8: =IF(Training!$B8=$B$1,Training!$G8,NA()) -> 104.5
J9: =IF(Training!$B9=$B$1,Training!$A9,NA()) -> #N/A | K9: =IF(Training!$B9=$B$1,Training!$G9,NA()) -> #N/A
J10: =IF(Training!$B10=$B$1,Training!$A10,NA()) -> #N/A | K10: =IF(Training!$B10=$B$1,Training!$G10,NA()) -> #N/A
J11: =IF(Training!$B11=$B$1,Training!$A11,NA()) -> #N/A | K11: =IF(Training!$B11=$B$1,Training!$G11,NA()) -> #N/A
J12: =IF(Training!$B12=$B$1,Training!$A12,NA()) -> #N/A | K12: =IF(Training!$B12=$B$1,Training!$G12,NA()) -> #N/A
J13: =IF(Training!$B13=$B$1,Training!$A13,NA()) -> #N/A | K13: =IF(Training!$B13=$B$1,Training!$G13,NA()) -> #N/A
J14: =IF(Training!$B14=$B$1,Training!$A14,NA()) -> #N/A | K14: =IF(Training!$B14=$B$1,Training!$G14,NA()) -> #N/A
J15: =IF(Training!$B15=$B$1,Training!$A15,NA()) -> #N/A | K15: =IF(Training!$B15=$B$1,Training!$G15,NA()) -> #N/A
... J301: =IF(Training!$B301=$B$1,Training!$A301,NA()) -> #N/A | K301: =IF(Training!$B301=$B$1,Training!$G301,NA()) -> #N/A
