Workbook

Sheet Plan
A1: Tag | B1: Übung | C1: Kategorie | D1: Sätze | E1: Wdh. | F1: Gewicht (kg) | G1: Pause (s) | H1: Volumen (kg)
A2: Tag 1 | B2: Kniebeuge | C2: Beine | D2: 3 | E2: 8 | F2: 70 | G2: 150 | H2: =IF(OR($D2="",$E2="",$F2=""),"",$D2*$E2*$F2) -> 1680
A3: Tag 1 | B3: Bankdrücken | C3: Drücken | D3: 3 | E3: 8 | F3: 60 | G3: 150 | H3: =IF(OR($D3="",$E3="",$F3=""),"",$D3*$E3*$F3) -> 1440
A4: Tag 1 | B4: Rudern am Kabel | C4: Ziehen | D4: 3 | E4: 10 | F4: 55 | G4: 90 | H4: =IF(OR($D4="",$E4="",$F4=""),"",$D4*$E4*$F4) -> 1650
A5: Tag 1 | B5: Beinbeuger | C5: Beine | D5: 3 | E5: 12 | F5: 35 | G5: 90 | H5: =IF(OR($D5="",$E5="",$F5=""),"",$D5*$E5*$F5) -> 1260
A6: Tag 1 | B6: Crunch am Kabel | C6: Rumpf | D6: 3 | E6: 15 | F6: 25 | G6: 60 | H6: =IF(OR($D6="",$E6="",$F6=""),"",$D6*$E6*$F6) -> 1125
A7: Tag 2 | B7: Kreuzheben | C7: Ziehen | D7: 3 | E7: 5 | F7: 90 | G7: 180 | H7: =IF(OR($D7="",$E7="",$F7=""),"",$D7*$E7*$F7) -> 1350
A8: Tag 2 | B8: Schulterdrücken | C8: Drücken | D8: 3 | E8: 10 | F8: 30 | G8: 120 | H8: =IF(OR($D8="",$E8="",$F8=""),"",$D8*$E8*$F8) -> 900
A9: Tag 2 | B9: Latzug | C9: Ziehen | D9: 3 | E9: 10 | F9: 50 | G9: 90 | H9: =IF(OR($D9="",$E9="",$F9=""),"",$D9*$E9*$F9) -> 1500
A10: Tag 2 | B10: Beinpresse | C10: Beine | D10: 3 | E10: 12 | F10: 120 | G10: 120 | H10: =IF(OR($D10="",$E10="",$F10=""),"",$D10*$E10*$F10) -> 4320
A11: Tag 2 | B11: Bauchpresse | C11: Rumpf | D11: 3 | E11: 12 | F11: 30 | G11: 60 | H11: =IF(OR($D11="",$E11="",$F11=""),"",$D11*$E11*$F11) -> 1080
A12: Tag 3 | B12: Kniebeuge | C12: Beine | D12: 3 | E12: 10 | F12: 65 | G12: 150 | H12: =IF(OR($D12="",$E12="",$F12=""),"",$D12*$E12*$F12) -> 1950
A13: Tag 3 | B13: Schrägbankdrücken | C13: Drücken | D13: 3 | E13: 10 | F13: 45 | G13: 120 | H13: =IF(OR($D13="",$E13="",$F13=""),"",$D13*$E13*$F13) -> 1350
... A16: Tag 3 | B16: Rückenstrecker | C16: Rumpf | D16: 3 | E16: 12 | F16: 20 | G16: 60 | H16: =IF(OR($D16="",$E16="",$F16=""),"",$D16*$E16*$F16) -> 720
H17: =IF(OR($D17="",$E17="",$F17=""),"",$D17*$E17*$F17)
H18: =IF(OR($D18="",$E18="",$F18=""),"",$D18*$E18*$F18)
H19: =IF(OR($D19="",$E19="",$F19=""),"",$D19*$E19*$F19)
H20: =IF(OR($D20="",$E20="",$F20=""),"",$D20*$E20*$F20)
H21: =IF(OR($D21="",$E21="",$F21=""),"",$D21*$E21*$F21)
H22: =IF(OR($D22="",$E22="",$F22=""),"",$D22*$E22*$F22)
H23: =IF(OR($D23="",$E23="",$F23=""),"",$D23*$E23*$F23)
H24: =IF(OR($D24="",$E24="",$F24=""),"",$D24*$E24*$F24)
H25: =IF(OR($D25="",$E25="",$F25=""),"",$D25*$E25*$F25)
H26: =IF(OR($D26="",$E26="",$F26=""),"",$D26*$E26*$F26)
H27: =IF(OR($D27="",$E27="",$F27=""),"",$D27*$E27*$F27)
H28: =IF(OR($D28="",$E28="",$F28=""),"",$D28*$E28*$F28)
... H151: =IF(OR($D151="",$E151="",$F151=""),"",$D151*$E151*$F151)

Sheet Woche
A1: Kategorie | B1: Sätze je Woche | C1: Volumen (kg)
A2: Drücken | B2: =SUMIF(Plan!$C$2:$C$151,$A2,Plan!$D$2:$D$151) -> 9 | C2: =SUMIF(Plan!$C$2:$C$151,$A2,Plan!$H$2:$H$151) -> 3690
A3: Ziehen | B3: =SUMIF(Plan!$C$2:$C$151,$A3,Plan!$D$2:$D$151) -> 12 | C3: =SUMIF(Plan!$C$2:$C$151,$A3,Plan!$H$2:$H$151) -> 5940
A4: Beine | B4: =SUMIF(Plan!$C$2:$C$151,$A4,Plan!$D$2:$D$151) -> 15 | C4: =SUMIF(Plan!$C$2:$C$151,$A4,Plan!$H$2:$H$151) -> 9810
A5: Rumpf | B5: =SUMIF(Plan!$C$2:$C$151,$A5,Plan!$D$2:$D$151) -> 9 | C5: =SUMIF(Plan!$C$2:$C$151,$A5,Plan!$H$2:$H$151) -> 2925
A7: Zusammen | B7: =SUM(B2:B5) -> 45 | C7: =SUM(C2:C5) -> 22365
A9: Die Summen zählen alles, was im Blatt „Plan“ steht, also eine ganze Trainingswoche.
A10: Faustregel: Ziehen sollte nicht weniger Sätze bekommen als Drücken, sonst zieht die Schulter nach vorn.
